BEGIN:VCALENDAR
VERSION:2.0
PRODID:-//Tukios.com/
BEGIN:VEVENT
UID:da2e6ce9-01d1-4173-96c5-8fc298718a66@www.burnsfuneralhome.com
DTSTAMP:20260422T183956Z
DTSTART:20260501T140000Z
DTEND:20260501T160000Z
SUMMARY:Visitation
DESCRIPTION:
URL:https://www.burnsfuneralhome.com/obituaries/catherine-hardiman
LOCATION: 9708 Frankford Ave  Philadelphia PA 19114
GEO:40.0596519;-74.9935505
END:VEVENT
END:VCALENDAR