BEGIN:VCALENDAR
VERSION:2.0
PRODID:-//Tukios.com/
BEGIN:VEVENT
UID:fe8313d2-0cd2-4923-8075-f41970b9984b@www.burnsfuneralhome.com
DTSTAMP:20260422T183956Z
DTSTART:20260501T160000Z
DTEND:20260501T170000Z
SUMMARY:Memorial Service
DESCRIPTION:
URL:https://www.burnsfuneralhome.com/obituaries/catherine-hardiman
LOCATION: 9708 Frankford Ave  Philadelphia PA 19114
GEO:40.0596519;-74.9935505
END:VEVENT
END:VCALENDAR