BEGIN:VCALENDAR
VERSION:2.0
PRODID:-//Tukios.com/
BEGIN:VEVENT
UID:e7a1926c-e039-4bd6-be36-c26726905619@www.burnsfuneralhome.com
DTSTAMP:20260425T214008Z
DTSTART:20260430T123000Z
DTEND:20260430T141500Z
SUMMARY:Viewing
DESCRIPTION:
URL:https://www.burnsfuneralhome.com/obituaries/james-castle
LOCATION: 9708 Frankford Ave  Philadelphia PA 19114
GEO:40.0596519;-74.9935505
END:VEVENT
END:VCALENDAR