BEGIN:VCALENDAR
VERSION:2.0
PRODID:-//Tukios.com/
BEGIN:VEVENT
UID:bd7f95de-17b8-4723-a046-78686ccd4fe2@www.burnsfuneralhome.com
DTSTAMP:20260425T213720Z
DTSTART:20260430T143000Z
DTEND:20260430T150000Z
SUMMARY:Funeral Service
DESCRIPTION:
URL:https://www.burnsfuneralhome.com/obituaries/james-castle
LOCATION: 9708 Frankford Ave  Philadelphia PA 19114
GEO:40.0596519;-74.9935505
END:VEVENT
END:VCALENDAR