BEGIN:VCALENDAR
VERSION:2.0
PRODID:-//Tukios.com/
BEGIN:VEVENT
UID:2189acbb-5b23-41cf-b5f3-2c39fa775128@www.burnsfuneralhome.com
DTSTAMP:20260422T003010Z
DTSTART:20260424T123000Z
DTEND:20260424T141500Z
SUMMARY:Viewing
DESCRIPTION:
URL:https://www.burnsfuneralhome.com/obituaries/joseph-p-mccloskey
LOCATION: 9708 Frankford Ave  Philadelphia PA 19114
GEO:40.0596519;-74.9935505
END:VEVENT
END:VCALENDAR