BEGIN:VCALENDAR
VERSION:2.0
PRODID:-//Tukios.com/
BEGIN:VEVENT
UID:6c8817db-1b74-42c3-baa2-acb72429e3a2@www.burnsfuneralhome.com
DTSTAMP:20260422T003200Z
DTSTART:20260424T150000Z
DTEND:20260424T160000Z
SUMMARY:Mass
DESCRIPTION:
URL:https://www.burnsfuneralhome.com/obituaries/joseph-p-mccloskey
LOCATION: 3252 Chesterfield Road  Philadelphia PA 19114
GEO:40.0757044;-74.9954433
END:VEVENT
END:VCALENDAR