BEGIN:VCALENDAR
VERSION:2.0
PRODID:-//Tukios.com/
BEGIN:VEVENT
UID:944b16f8-4ed8-4b1f-a80f-8821cfe01d8c@www.burnsfuneralhome.com
DTSTAMP:20260422T003011Z
DTSTART:20260424T164500Z
DTEND:20260424T174500Z
SUMMARY:Burial
DESCRIPTION:
URL:https://www.burnsfuneralhome.com/obituaries/joseph-p-mccloskey
LOCATION: 3301 W Cheltenham Ave  Philadelphia PA 19150
GEO:40.087033;-75.1768406
END:VEVENT
END:VCALENDAR