BEGIN:VCALENDAR
VERSION:2.0
PRODID:-//Tukios.com/
BEGIN:VEVENT
UID:b2649de5-c606-49c7-a54d-eb47fe087d1b@www.burnsfuneralhome.com
DTSTAMP:20260419T213524Z
DTSTART:20260422T220000Z
DTEND:20260423T000000Z
SUMMARY:Viewing
DESCRIPTION:
URL:https://www.burnsfuneralhome.com/obituaries/lisa-falcon
LOCATION: 9708 Frankford Ave  Philadelphia PA 19114
GEO:40.0596519;-74.9935505
END:VEVENT
END:VCALENDAR