BEGIN:VCALENDAR
VERSION:2.0
PRODID:-//Tukios.com/
BEGIN:VEVENT
UID:cb2beec1-3ff7-45c2-b417-75c64c014185@www.burnsfuneralhome.com
DTSTAMP:20260419T212534Z
DTSTART:20260423T140000Z
DTEND:20260423T150000Z
SUMMARY:Funeral Service
DESCRIPTION:
URL:https://www.burnsfuneralhome.com/obituaries/lisa-falcon
LOCATION: 9708 Frankford Ave  Philadelphia PA 19114
GEO:40.0596519;-74.9935505
END:VEVENT
END:VCALENDAR