BEGIN:VCALENDAR
VERSION:2.0
PRODID:-//Tukios.com/
BEGIN:VEVENT
UID:9374c6ad-13b0-4455-bd6e-424fa8420948@www.burnsfuneralhome.com
DTSTAMP:20260419T213337Z
DTSTART:20260423T130000Z
DTEND:20260423T140000Z
SUMMARY:Viewing
DESCRIPTION:
URL:https://www.burnsfuneralhome.com/obituaries/lisa-falcon
LOCATION: 9708 Frankford Ave  Philadelphia PA 19114
GEO:40.0596519;-74.9935505
END:VEVENT
END:VCALENDAR