BEGIN:VCALENDAR
VERSION:2.0
PRODID:-//Tukios.com/
BEGIN:VEVENT
UID:65802fa3-c5e7-47d4-9eaa-fe181933205b@www.burnsfuneralhome.com
DTSTAMP:20260425T231344Z
DTSTART:20260429T130000Z
DTEND:20260429T144500Z
SUMMARY:Visitation
DESCRIPTION:
URL:https://www.burnsfuneralhome.com/obituaries/theresa-mcclafferty
LOCATION: 8100 Colfax Street # 1   Philadelphia,  PA 19136
GEO:40.0546285;-75.0300602
END:VEVENT
END:VCALENDAR