BEGIN:VCALENDAR
VERSION:2.0
PRODID:-//Tukios.com/
BEGIN:VEVENT
UID:81b64168-66b0-4f3b-9e51-83337b6a053e@www.burnsfuneralhome.com
DTSTAMP:20260425T231015Z
DTSTART:20260429T150000Z
DTEND:20260429T160000Z
SUMMARY:Mass
DESCRIPTION:
URL:https://www.burnsfuneralhome.com/obituaries/theresa-mcclafferty
LOCATION:St. Jerome Church 8100 Colfax Street # 1   Philadelphia,  PA 
	19136
GEO:40.0546285;-75.0300602
END:VEVENT
END:VCALENDAR