BEGIN:VCALENDAR
VERSION:2.0
PRODID:-//Tukios.com/
BEGIN:VEVENT
UID:7c6b0322-0f24-47d9-abbb-2cc898f8d636@www.burnsfuneralhome.com
DTSTAMP:20260420T174508Z
DTSTART:20260428T133000Z
DTEND:20260428T150000Z
SUMMARY:Visitation
DESCRIPTION:
URL:https://www.burnsfuneralhome.com/obituaries/william-moore
LOCATION: 9700 Frankford Avenue  Philadelphia PA 19114
GEO:40.0601778;-74.9921627
END:VEVENT
END:VCALENDAR