BEGIN:VCALENDAR
VERSION:2.0
PRODID:-//Tukios.com/
BEGIN:VEVENT
UID:4c23da4b-9c6d-4442-a9a9-297840b770c1@www.burnsfuneralhome.com
DTSTAMP:20260420T174014Z
DTSTART:20260429T150000Z
DTEND:20260429T160000Z
SUMMARY:Interment
DESCRIPTION:
URL:https://www.burnsfuneralhome.com/obituaries/william-moore
LOCATION: 830 Highland Rd  Newtown PA 18940
GEO:40.2649466;-74.9046413
END:VEVENT
END:VCALENDAR