BEGIN:VCALENDAR
VERSION:2.0
PRODID:-//Tukios.com/
BEGIN:VEVENT
UID:79a1f090-1d42-4d15-ae50-49675b5788e0@www.burnsfuneralhome.com
DTSTAMP:20260420T173820Z
DTSTART:20260428T150000Z
DTEND:20260428T160000Z
SUMMARY:Mass
DESCRIPTION:
URL:https://www.burnsfuneralhome.com/obituaries/william-moore
LOCATION: 9700 Frankford Avenue  Philadelphia PA 19114
GEO:40.0601778;-74.9921627
END:VEVENT
END:VCALENDAR